BEGIN:VCALENDAR
VERSION:2.0
PRODID:spatie/icalendar-generator
DESCRIPTION:Events from Glasgow North Group of Advanced Motorists
X-WR-CALDESC:Events from Glasgow North Group of Advanced Motorists
REFRESH-INTERVAL;VALUE=DURATION:PT1440M
X-PUBLISHED-TTL:PT1440M
BEGIN:VTIMEZONE
TZID:Etc/GMT+0
BEGIN:STANDARD
DTSTART:20240107T193000Z
TZOFFSETFROM:+0000
TZOFFSETTO:+0000
END:STANDARD
END:VTIMEZONE
BEGIN:VTIMEZONE
TZID:UTC
BEGIN:STANDARD
DTSTART:20250727T074423Z
TZOFFSETFROM:+0000
TZOFFSETTO:+0000
END:STANDARD
END:VTIMEZONE
BEGIN:VEVENT
UID:282-12
DTSTAMP:20260423T074423Z
SUMMARY:AGM 2024
LOCATION:War Memorial Hall  1A Balmuildy Road Bishopbriggs Glasgow
ORGANIZER;CN=IAM Glasgow North:MAILTO:iamwpadmin@iamglasgow.org
DTSTART;TZID=Etc/GMT+0:20241003T193000
DTEND;TZID=Etc/GMT+0:20241003T213000
X-ALT-DESC;FMTTYPE=TEXT/HTML:This year's Annual General Meeting will be on 
 Thursday 3rd October 2024 at 7.30pm in the small hall of the War Memorial 
 Halls\, Balmuildy Road\, Bishopbriggs\, G64 3BX. The meeting is open to al
 l group members.
CATEGORIES:General
URL;VALUE=URI:https://www.iamglasgow.org/mc-events/agm-2024/
METHOD:PUBLISH
END:VEVENT
END:VCALENDAR