BEGIN:VCALENDAR
VERSION:2.0
PRODID:spatie/icalendar-generator
DESCRIPTION:Events from Glasgow North Group of Advanced Motorists
X-WR-CALDESC:Events from Glasgow North Group of Advanced Motorists
REFRESH-INTERVAL;VALUE=DURATION:PT1440M
X-PUBLISHED-TTL:PT1440M
BEGIN:VTIMEZONE
TZID:Etc/GMT+0
BEGIN:STANDARD
DTSTART:20250105T193000Z
TZOFFSETFROM:+0000
TZOFFSETTO:+0000
END:STANDARD
END:VTIMEZONE
BEGIN:VTIMEZONE
TZID:UTC
BEGIN:STANDARD
DTSTART:20250728T192450Z
TZOFFSETFROM:+0000
TZOFFSETTO:+0000
END:STANDARD
END:VTIMEZONE
BEGIN:VEVENT
UID:317-41
DTSTAMP:20260424T192450Z
SUMMARY:AGM 2025
LOCATION:War Memorial Hall  1A Balmuildy Road Bishopbriggs Glasgow
ORGANIZER;CN=IAM Glasgow North:MAILTO:iamwpadmin@iamglasgow.org
DTSTART;TZID=Etc/GMT+0:20251002T193000
DTEND;TZID=Etc/GMT+0:20251002T213000
X-ALT-DESC;FMTTYPE=TEXT/HTML:This year's Annual General Meeting will be on 
 Thursday 2nd October 2025 at 7.30pm in the small hall of the War Memorial 
 Halls\, Balmuildy Road\, Bishopbriggs\, G64 3BX. The meeting is open to al
 l group members.
CATEGORIES:General
URL;VALUE=URI:https://www.iamglasgow.org/mc-events/agm-2025/
METHOD:PUBLISH
END:VEVENT
END:VCALENDAR