BEGIN:VCALENDAR
VERSION:2.0
PRODID:spatie/icalendar-generator
DESCRIPTION:Events from Glasgow North Group of Advanced Motorists
X-WR-CALDESC:Events from Glasgow North Group of Advanced Motorists
REFRESH-INTERVAL;VALUE=DURATION:PT1440M
X-PUBLISHED-TTL:PT1440M
BEGIN:VTIMEZONE
TZID:Etc/GMT+0
BEGIN:STANDARD
DTSTART:20240629T193000Z
TZOFFSETFROM:+0000
TZOFFSETTO:+0000
END:STANDARD
END:VTIMEZONE
BEGIN:VTIMEZONE
TZID:UTC
BEGIN:STANDARD
DTSTART:20250727T214030Z
TZOFFSETFROM:+0000
TZOFFSETTO:+0000
END:STANDARD
END:VTIMEZONE
BEGIN:VEVENT
UID:294-17
DTSTAMP:20260423T214030Z
SUMMARY:Bike Associate Pre-Season Meeting
LOCATION:War Memorial Hall  1A Balmuildy Road Bishopbriggs Glasgow
ORGANIZER;CN=IAM Glasgow North:MAILTO:iamwpadmin@iamglasgow.org
DTSTART;TZID=Etc/GMT+0:20250326T193000
DTEND;TZID=Etc/GMT+0:20250326T211500
X-ALT-DESC;FMTTYPE=TEXT/HTML:A night to welcome both existing and new assoc
 iates to the group ahead of the start of the 2025 season. We will cover ho
 w the group will deliver our training to each associate and also provide y
 ou with a chance to meet some of the observers. &amp;nbsp\;
CATEGORIES:Associate Meeting
URL;VALUE=URI:https://www.iamglasgow.org/mc-events/bike-associate-pre-seaso
 n-meeting/
METHOD:PUBLISH
END:VEVENT
END:VCALENDAR