BEGIN:VCALENDAR
VERSION:2.0
PRODID:spatie/icalendar-generator
DESCRIPTION:Events from Glasgow North Group of Advanced Motorists
X-WR-CALDESC:Events from Glasgow North Group of Advanced Motorists
REFRESH-INTERVAL;VALUE=DURATION:PT1440M
X-PUBLISHED-TTL:PT1440M
BEGIN:VTIMEZONE
TZID:Etc/GMT+0
BEGIN:STANDARD
DTSTART:20240622T193000Z
TZOFFSETFROM:+0000
TZOFFSETTO:+0000
END:STANDARD
END:VTIMEZONE
BEGIN:VTIMEZONE
TZID:UTC
BEGIN:STANDARD
DTSTART:20250727T090153Z
TZOFFSETFROM:+0000
TZOFFSETTO:+0000
END:STANDARD
END:VTIMEZONE
BEGIN:VEVENT
UID:295-18
DTSTAMP:20260423T090153Z
SUMMARY:Bike Observer Pre-Season Meeting
LOCATION:War Memorial Hall  1A Balmuildy Road Bishopbriggs Glasgow
ORGANIZER;CN=IAM Glasgow North:MAILTO:iamwpadmin@iamglasgow.org
DTSTART;TZID=Etc/GMT+0:20250319T193000
DTEND;TZID=Etc/GMT+0:20250319T211500
X-ALT-DESC;FMTTYPE=TEXT/HTML:A night to welcome both existing and new Obser
 vers to the group ahead of the start of the 2025 season. We will cover how
  the group will deliver our training to associates this season.
CATEGORIES:Observer Meeting
URL;VALUE=URI:https://www.iamglasgow.org/mc-events/bike-observer-pre-season
 -meeting/
METHOD:PUBLISH
END:VEVENT
END:VCALENDAR