BEGIN:VCALENDAR
VERSION:2.0
PRODID:spatie/icalendar-generator
DESCRIPTION:Events from Glasgow North Group of Advanced Motorists
X-WR-CALDESC:Events from Glasgow North Group of Advanced Motorists
REFRESH-INTERVAL;VALUE=DURATION:PT1440M
X-PUBLISHED-TTL:PT1440M
BEGIN:VTIMEZONE
TZID:Etc/GMT+0
BEGIN:STANDARD
DTSTART:20250107T100000Z
TZOFFSETFROM:+0000
TZOFFSETTO:+0000
END:STANDARD
END:VTIMEZONE
BEGIN:VTIMEZONE
TZID:UTC
BEGIN:STANDARD
DTSTART:20250728T212133Z
TZOFFSETFROM:+0000
TZOFFSETTO:+0000
END:STANDARD
END:VTIMEZONE
BEGIN:VEVENT
UID:318-42
DTSTAMP:20260424T212133Z
SUMMARY:Bike Session 2025 (Sat 4th Oct) - RED
LOCATION:McDonalds Robroyston GLASGOW NORTH RETAIL PARK 17 Monument Drive G
 LASGOW  G33 1AD
ORGANIZER;CN=IAM Glasgow North:MAILTO:iamwpadmin@iamglasgow.org
DTSTART;TZID=Etc/GMT+0:20251004T100000
DTEND;TZID=Etc/GMT+0:20251004T130000
X-ALT-DESC;FMTTYPE=TEXT/HTML:Saturday 4th October morning observed bike tra
 ining session is cancelled due to the forecast bad weather. Please check o
 ut the \"Winter Traffic Lights\" before setting off for each session to se
 e that it hasn't been cancelled due to the weather.
CATEGORIES:Winter Ride (RED)
URL;VALUE=URI:https://www.iamglasgow.org/mc-events/bike-session-2025-sat-4t
 h-oct-red/
METHOD:PUBLISH
END:VEVENT
END:VCALENDAR