BEGIN:VCALENDAR
VERSION:2.0
PRODID:spatie/icalendar-generator
DESCRIPTION:Events from Glasgow North Group of Advanced Motorists
X-WR-CALDESC:Events from Glasgow North Group of Advanced Motorists
REFRESH-INTERVAL;VALUE=DURATION:PT1440M
X-PUBLISHED-TTL:PT1440M
BEGIN:VTIMEZONE
TZID:Etc/GMT+0
BEGIN:STANDARD
DTSTART:20230725T091500Z
TZOFFSETFROM:+0000
TZOFFSETTO:+0000
END:STANDARD
END:VTIMEZONE
BEGIN:VTIMEZONE
TZID:UTC
BEGIN:STANDARD
DTSTART:20250724T023606Z
TZOFFSETFROM:+0000
TZOFFSETTO:+0000
END:STANDARD
END:VTIMEZONE
BEGIN:VEVENT
UID:125-3
DTSTAMP:20260420T023606Z
SUMMARY:Bike Session (Sat)
LOCATION:McDonalds Robroyston GLASGOW NORTH RETAIL PARK 17 Monument Drive G
 LASGOW  G33 1AD
ORGANIZER;CN=IAM Glasgow North:MAILTO:iamwpadmin@iamglasgow.org
RRULE:FREQ=WEEKLY;UNTIL=20241110T000000Z
DTSTART;TZID=Etc/GMT+0:20240420T091500
DTEND;TZID=Etc/GMT+0:20240420T130000
X-ALT-DESC;FMTTYPE=TEXT/HTML:Saturday morning observed bike training sessio
 n.
CATEGORIES:Bike Session
URL;VALUE=URI:https://www.iamglasgow.org/mc-events/bike-session-sat/?mc_id=
 125
METHOD:PUBLISH
END:VEVENT
END:VCALENDAR