BEGIN:VCALENDAR
VERSION:2.0
PRODID:spatie/icalendar-generator
DESCRIPTION:Events from Glasgow North Group of Advanced Motorists
X-WR-CALDESC:Events from Glasgow North Group of Advanced Motorists
REFRESH-INTERVAL;VALUE=DURATION:PT1440M
X-PUBLISHED-TTL:PT1440M
BEGIN:VTIMEZONE
TZID:Etc/GMT+0
BEGIN:STANDARD
DTSTART:20230806T193000Z
TZOFFSETFROM:+0000
TZOFFSETTO:+0000
END:STANDARD
END:VTIMEZONE
BEGIN:VTIMEZONE
TZID:UTC
BEGIN:STANDARD
DTSTART:20250726T181832Z
TZOFFSETFROM:+0000
TZOFFSETTO:+0000
END:STANDARD
END:VTIMEZONE
BEGIN:VEVENT
UID:247-4
DTSTAMP:20260422T181832Z
SUMMARY:Committee Meeting
LOCATION:War Memorial Hall  1A Balmuildy Road Bishopbriggs Glasgow
ORGANIZER;CN=IAM Glasgow North:MAILTO:iamwpadmin@iamglasgow.org
RRULE:FREQ=MONTHLY;BYDAY=1TH;UNTIL=20260801T000000Z
DTSTART;TZID=Etc/GMT+0:20240502T193000
DTEND;TZID=Etc/GMT+0:20240502T210000
X-ALT-DESC;FMTTYPE=TEXT/HTML:
CATEGORIES:Committee Meeting,  Guest Speaker
URL;VALUE=URI:https://www.iamglasgow.org/mc-events/committee-meeting/?mc_id
 =247
METHOD:PUBLISH
END:VEVENT
END:VCALENDAR