BEGIN:VCALENDAR
VERSION:2.0
PRODID:spatie/icalendar-generator
DESCRIPTION:Events from Glasgow North Group of Advanced Motorists
X-WR-CALDESC:Events from Glasgow North Group of Advanced Motorists
REFRESH-INTERVAL;VALUE=DURATION:PT1440M
X-PUBLISHED-TTL:PT1440M
BEGIN:VTIMEZONE
TZID:Etc/GMT+0
BEGIN:STANDARD
DTSTART:20240811T193000Z
TZOFFSETFROM:+0000
TZOFFSETTO:+0000
END:STANDARD
END:VTIMEZONE
BEGIN:VTIMEZONE
TZID:UTC
BEGIN:STANDARD
DTSTART:20250728T044006Z
TZOFFSETFROM:+0000
TZOFFSETTO:+0000
END:STANDARD
END:VTIMEZONE
BEGIN:VEVENT
UID:316-40
DTSTAMP:20260424T044006Z
SUMMARY:Glasgow North Group Night - RTA Law Scotland
LOCATION:War Memorial Hall  1A Balmuildy Road Bishopbriggs Glasgow
ORGANIZER;CN=IAM Glasgow North:MAILTO:iamwpadmin@iamglasgow.org
DTSTART;TZID=Etc/GMT+0:20250508T193000
DTEND;TZID=Etc/GMT+0:20250508T213000
X-ALT-DESC;FMTTYPE=TEXT/HTML:Glasgow North Group Night On Thursday 8th May 
 we are delighted to welcome a guest speaker from Road Traffic Accident Law
  Scotland (formerly Motorcycle Law Scotland)\, to our monthly group meetin
 g. Join us on the 8th May at the War Memorial Hall to find out how the law
  applies to accident cost recovery\, reporting road&amp;hellip\;
CATEGORIES:Guest Speaker
URL;VALUE=URI:https://www.iamglasgow.org/mc-events/glasgow-north-group-nigh
 t-rta-law-scotland/
METHOD:PUBLISH
END:VEVENT
END:VCALENDAR