BEGIN:VCALENDAR
VERSION:2.0
PRODID:spatie/icalendar-generator
DESCRIPTION:Events from Glasgow North Group of Advanced Motorists
X-WR-CALDESC:Events from Glasgow North Group of Advanced Motorists
REFRESH-INTERVAL;VALUE=DURATION:PT1440M
X-PUBLISHED-TTL:PT1440M
BEGIN:VTIMEZONE
TZID:Etc/GMT+0
BEGIN:STANDARD
DTSTART:20240731T093000Z
TZOFFSETFROM:+0000
TZOFFSETTO:+0000
END:STANDARD
END:VTIMEZONE
BEGIN:VTIMEZONE
TZID:UTC
BEGIN:STANDARD
DTSTART:20250728T031817Z
TZOFFSETFROM:+0000
TZOFFSETTO:+0000
END:STANDARD
END:VTIMEZONE
BEGIN:VEVENT
UID:314-39
DTSTAMP:20260424T031817Z
SUMMARY:Helensburgh Road Smart Event
LOCATION:
ORGANIZER;CN=Craig McCallum:MAILTO:mccallumcraig@hotmail.com
DTSTART;TZID=Etc/GMT+0:20250427T093000
DTEND;TZID=Etc/GMT+0:20250427T154500
X-ALT-DESC;FMTTYPE=TEXT/HTML:
CATEGORIES:General
URL;VALUE=URI:https://www.iamglasgow.org/mc-events/helensburgh-road-smart-e
 vent/
METHOD:PUBLISH
END:VEVENT
END:VCALENDAR