BEGIN:VCALENDAR
VERSION:2.0
PRODID:spatie/icalendar-generator
DESCRIPTION:Events from Glasgow North Group of Advanced Motorists
X-WR-CALDESC:Events from Glasgow North Group of Advanced Motorists
REFRESH-INTERVAL;VALUE=DURATION:PT1440M
X-PUBLISHED-TTL:PT1440M
BEGIN:VTIMEZONE
TZID:Etc/GMT+0
BEGIN:STANDARD
DTSTART:20231121T091500Z
TZOFFSETFROM:+0000
TZOFFSETTO:+0000
END:STANDARD
END:VTIMEZONE
BEGIN:VTIMEZONE
TZID:UTC
BEGIN:STANDARD
DTSTART:20250727T010623Z
TZOFFSETFROM:+0000
TZOFFSETTO:+0000
END:STANDARD
END:VTIMEZONE
BEGIN:VEVENT
UID:279-10
DTSTAMP:20260423T010623Z
SUMMARY:Memorial Ride to Robin House Children’s Hospice 2024
LOCATION:McDonalds Robroyston GLASGOW NORTH RETAIL PARK 17 Monument Drive G
 LASGOW  G33 1AD
ORGANIZER;CN=IAM Glasgow North:MAILTO:iamwpadmin@iamglasgow.org
DTSTART;TZID=Etc/GMT+0:20240817T091500
DTEND;TZID=Etc/GMT+0:20240817T120000
X-ALT-DESC;FMTTYPE=TEXT/HTML:Our annual Memorial/Charity ride to Robin Hous
 e children’s Hospice Balloch is this Saturday 17 August. Riders taking p
 art should meet as normal on Saturday morning at 9.15 at McDonalds Robroys
 ton after which a pre ride briefing will take place. We have been collecti
 ng all year and hope to handover a considerable sum of money to&amp;hellip\;
CATEGORIES:General
URL;VALUE=URI:https://www.iamglasgow.org/mc-events/memorial-ride-to-robin-h
 ouse-childrens-hospice-2024/
METHOD:PUBLISH
END:VEVENT
END:VCALENDAR