BEGIN:VCALENDAR
VERSION:2.0
PRODID:spatie/icalendar-generator
DESCRIPTION:Events from Glasgow North Group of Advanced Motorists
X-WR-CALDESC:Events from Glasgow North Group of Advanced Motorists
REFRESH-INTERVAL;VALUE=DURATION:PT1440M
X-PUBLISHED-TTL:PT1440M
BEGIN:VTIMEZONE
TZID:Etc/GMT+0
BEGIN:STANDARD
DTSTART:20241203T091500Z
TZOFFSETFROM:+0000
TZOFFSETTO:+0000
END:STANDARD
END:VTIMEZONE
BEGIN:VTIMEZONE
TZID:UTC
BEGIN:STANDARD
DTSTART:20250728T135929Z
TZOFFSETFROM:+0000
TZOFFSETTO:+0000
END:STANDARD
END:VTIMEZONE
BEGIN:VEVENT
UID:292-15
DTSTAMP:20260424T135929Z
SUMMARY:Memorial Run to Robin House Children’s Hospice 2025
LOCATION:McDonalds Robroyston GLASGOW NORTH RETAIL PARK 17 Monument Drive G
 LASGOW  G33 1AD
ORGANIZER;CN=IAM Glasgow North:MAILTO:iamwpadmin@iamglasgow.org
DTSTART;TZID=Etc/GMT+0:20250830T091500
DTEND;TZID=Etc/GMT+0:20250830T120000
X-ALT-DESC;FMTTYPE=TEXT/HTML:Our annual Memorial/Charity run to Robin House
  children’s Hospice Balloch is on Saturday 30th August. Riders/Drivers t
 aking part should meet as normal on Saturday morning at 9.15 at McDonalds 
 Robroyston after which a pre journey briefing will take place. We have bee
 n collecting all year and hope to hand over a considerable sum of money&amp;he
 llip\;
CATEGORIES:General
URL;VALUE=URI:https://www.iamglasgow.org/mc-events/memorial-run-to-robin-ho
 use-childrens-hospice-2025/
METHOD:PUBLISH
END:VEVENT
END:VCALENDAR