BEGIN:VCALENDAR
VERSION:2.0
PRODID:spatie/icalendar-generator
DESCRIPTION:Events from Glasgow North Group of Advanced Motorists
X-WR-CALDESC:Events from Glasgow North Group of Advanced Motorists
REFRESH-INTERVAL;VALUE=DURATION:PT1440M
X-PUBLISHED-TTL:PT1440M
BEGIN:VTIMEZONE
TZID:Etc/GMT+0
BEGIN:STANDARD
DTSTART:20231129T100000Z
TZOFFSETFROM:+0000
TZOFFSETTO:+0000
END:STANDARD
END:VTIMEZONE
BEGIN:VTIMEZONE
TZID:UTC
BEGIN:STANDARD
DTSTART:20250726T181303Z
TZOFFSETFROM:+0000
TZOFFSETTO:+0000
END:STANDARD
END:VTIMEZONE
BEGIN:VEVENT
UID:278-9
DTSTAMP:20260422T181303Z
SUMMARY:RoadSmart Open Day - Dumbarton
LOCATION:West Dunbartonshire Council Offices 16 Church Street  Dumbarton  G
 82 1QL
ORGANIZER;CN=IAM Glasgow North:MAILTO:iamwpadmin@iamglasgow.org
DTSTART;TZID=Etc/GMT+0:20240825T100000
DTEND;TZID=Etc/GMT+0:20240825T160000
X-ALT-DESC;FMTTYPE=TEXT/HTML:Come and join us at our open day in Dumbarton 
 held in partnership with Police Scotland and The Scottish Fire and Rescue 
 Service. This event is aimed at all drivers and riders. Free assessment dr
 ives/rides are available with an Institute of Advanced Motorists assessor.
  Increase your confidence and skills\, and gain valuable advice.
CATEGORIES:General
URL;VALUE=URI:https://www.iamglasgow.org/mc-events/roadsmart-open-day-dumba
 rton/
METHOD:PUBLISH
END:VEVENT
END:VCALENDAR