BEGIN:VCALENDAR
VERSION:2.0
PRODID:spatie/icalendar-generator
DESCRIPTION:Events from Glasgow North Group of Advanced Motorists
X-WR-CALDESC:Events from Glasgow North Group of Advanced Motorists
REFRESH-INTERVAL;VALUE=DURATION:PT1440M
X-PUBLISHED-TTL:PT1440M
BEGIN:VTIMEZONE
TZID:Etc/GMT+0
BEGIN:STANDARD
DTSTART:20240814T100000Z
TZOFFSETFROM:+0000
TZOFFSETTO:+0000
END:STANDARD
END:VTIMEZONE
BEGIN:VTIMEZONE
TZID:UTC
BEGIN:STANDARD
DTSTART:20250728T072804Z
TZOFFSETFROM:+0000
TZOFFSETTO:+0000
END:STANDARD
END:VTIMEZONE
BEGIN:VEVENT
UID:293-16
DTSTAMP:20260424T072804Z
SUMMARY:Slow Mo Day
LOCATION:Loch Lomond Shores Overflow Car Park (just beyond McDonalds) Ballo
 ch  G83 8SX
ORGANIZER;CN=IAM Glasgow North:MAILTO:iamwpadmin@iamglasgow.org
DTSTART;TZID=Etc/GMT+0:20250511T100000
DTEND;TZID=Etc/GMT+0:20250511T160000
X-ALT-DESC;FMTTYPE=TEXT/HTML:Feel you need to work on your bike SLOW MO con
 trol a bit more?  Been a while since you tested your bike SLOW MO skills?
   Or do you just fancy a fun event where you will also sharpen your overa
 ll bike control skills? Then come and join us at our annual SLOW MO day. T
 his&amp;hellip\;
CATEGORIES:Bike Session
URL;VALUE=URI:https://www.iamglasgow.org/mc-events/slow-mo-day/
METHOD:PUBLISH
END:VEVENT
END:VCALENDAR