BEGIN:VCALENDAR
VERSION:2.0
PRODID:spatie/icalendar-generator
DESCRIPTION:Events from Glasgow North Group of Advanced Motorists
X-WR-CALDESC:Events from Glasgow North Group of Advanced Motorists
REFRESH-INTERVAL;VALUE=DURATION:PT1440M
X-PUBLISHED-TTL:PT1440M
BEGIN:VTIMEZONE
TZID:Etc/GMT+0
BEGIN:STANDARD
DTSTART:20240227T100000Z
TZOFFSETFROM:+0000
TZOFFSETTO:+0000
END:STANDARD
END:VTIMEZONE
BEGIN:VTIMEZONE
TZID:UTC
BEGIN:STANDARD
DTSTART:20250726T152823Z
TZOFFSETFROM:+0000
TZOFFSETTO:+0000
END:STANDARD
END:VTIMEZONE
BEGIN:VEVENT
UID:283-19
DTSTAMP:20260422T152823Z
SUMMARY:Winter Bike Session 2024 (Sat) - Cancelled for the 23rd Nov
LOCATION:McDonalds Robroyston GLASGOW NORTH RETAIL PARK 17 Monument Drive G
 LASGOW  G33 1AD
ORGANIZER;CN=IAM Glasgow North:MAILTO:iamwpadmin@iamglasgow.org
DTSTART;TZID=Etc/GMT+0:20241123T100000
DTEND;TZID=Etc/GMT+0:20241123T130000
X-ALT-DESC;FMTTYPE=TEXT/HTML:Saturday morning winter observed bike training
  session. This is subject to the weather conditions on the day. Please che
 ck out the \"Winter Traffic Lights\" before setting off for each session t
 o see that it hasn't been cancelled due to the weather. &amp;nbsp\; &amp;nbsp\; &amp;n
 bsp\;
CATEGORIES:Winter Ride (RED)
URL;VALUE=URI:https://www.iamglasgow.org/mc-events/winter-bike-session-2024
 -sat-cancelled-for-the-23rd-nov/
METHOD:PUBLISH
END:VEVENT
END:VCALENDAR