BEGIN:VCALENDAR
VERSION:2.0
PRODID:spatie/icalendar-generator
DESCRIPTION:Events from Glasgow North Group of Advanced Motorists
X-WR-CALDESC:Events from Glasgow North Group of Advanced Motorists
REFRESH-INTERVAL;VALUE=DURATION:PT1440M
X-PUBLISHED-TTL:PT1440M
BEGIN:VTIMEZONE
TZID:Etc/GMT+0
BEGIN:STANDARD
DTSTART:20240326T100000Z
TZOFFSETFROM:+0000
TZOFFSETTO:+0000
END:STANDARD
END:VTIMEZONE
BEGIN:VTIMEZONE
TZID:UTC
BEGIN:STANDARD
DTSTART:20250726T101808Z
TZOFFSETFROM:+0000
TZOFFSETTO:+0000
END:STANDARD
END:VTIMEZONE
BEGIN:VEVENT
UID:298-22
DTSTAMP:20260422T101808Z
SUMMARY:Winter Bike Session 2024 (Sat) - Red Cancelled
LOCATION:McDonalds Robroyston GLASGOW NORTH RETAIL PARK 17 Monument Drive G
 LASGOW  G33 1AD
ORGANIZER;CN=IAM Glasgow North:MAILTO:iamwpadmin@iamglasgow.org
DTSTART;TZID=Etc/GMT+0:20241221T100000
DTEND;TZID=Etc/GMT+0:20241221T130000
X-ALT-DESC;FMTTYPE=TEXT/HTML:Wind is wild this morning.  Saturday run has 
 been cancelled. Hope you all have a good Christmas and New Year! &amp;nbsp\; S
 aturday morning winter observed bike training session. This is subject to 
 the weather conditions on the day. Some standing water / large puddles on 
 the roads. Ensure you ride to the road conditions and&amp;hellip\;
CATEGORIES:Winter Ride (RED)
URL;VALUE=URI:https://www.iamglasgow.org/mc-events/winter-bike-session-2024
 -sat-red-cancelled/
METHOD:PUBLISH
END:VEVENT
END:VCALENDAR