BEGIN:VCALENDAR
VERSION:2.0
PRODID:spatie/icalendar-generator
DESCRIPTION:Events from Glasgow North Group of Advanced Motorists
X-WR-CALDESC:Events from Glasgow North Group of Advanced Motorists
REFRESH-INTERVAL;VALUE=DURATION:PT1440M
X-PUBLISHED-TTL:PT1440M
BEGIN:VTIMEZONE
TZID:Etc/GMT+0
BEGIN:STANDARD
DTSTART:20240514T100000Z
TZOFFSETFROM:+0000
TZOFFSETTO:+0000
END:STANDARD
END:VTIMEZONE
BEGIN:VTIMEZONE
TZID:UTC
BEGIN:STANDARD
DTSTART:20250725T184338Z
TZOFFSETFROM:+0000
TZOFFSETTO:+0000
END:STANDARD
END:VTIMEZONE
BEGIN:VEVENT
UID:307-32
DTSTAMP:20260421T184338Z
SUMMARY:Winter Bike Session 2025 (Sat) Cancelled - RED
LOCATION:McDonalds Robroyston GLASGOW NORTH RETAIL PARK 17 Monument Drive G
 LASGOW  G33 1AD
ORGANIZER;CN=IAM Glasgow North:MAILTO:iamwpadmin@iamglasgow.org
DTSTART;TZID=Etc/GMT+0:20250208T100000
DTEND;TZID=Etc/GMT+0:20250208T130000
X-ALT-DESC;FMTTYPE=TEXT/HTML:Cancelled due to extreme cold temperatures and
  possible ice! -----------------------------------------------------------
 -------------------------------------- Saturday morning winter observed bi
 ke training session. Subject to weather conditions. Please check out the \
 "Winter Traffic Lights\" before setting off for each session to see that i
 t hasn't been cancelled due to the weather.
CATEGORIES:Winter Ride (RED)
URL;VALUE=URI:https://www.iamglasgow.org/mc-events/winter-bike-session-2025
 -sat-cancelled-red-2/
METHOD:PUBLISH
END:VEVENT
END:VCALENDAR