BEGIN:VCALENDAR
VERSION:2.0
PRODID:spatie/icalendar-generator
DESCRIPTION:Events from Glasgow North Group of Advanced Motorists
X-WR-CALDESC:Events from Glasgow North Group of Advanced Motorists
REFRESH-INTERVAL;VALUE=DURATION:PT1440M
X-PUBLISHED-TTL:PT1440M
BEGIN:VTIMEZONE
TZID:Etc/GMT+0
BEGIN:STANDARD
DTSTART:20240611T100000Z
TZOFFSETFROM:+0000
TZOFFSETTO:+0000
END:STANDARD
END:VTIMEZONE
BEGIN:VTIMEZONE
TZID:UTC
BEGIN:STANDARD
DTSTART:20250726T214839Z
TZOFFSETFROM:+0000
TZOFFSETTO:+0000
END:STANDARD
END:VTIMEZONE
BEGIN:VEVENT
UID:309-34
DTSTAMP:20260422T214839Z
SUMMARY:Winter Bike Session 2025 (Sat) - Green
LOCATION:McDonalds Robroyston GLASGOW NORTH RETAIL PARK 17 Monument Drive G
 LASGOW  G33 1AD
ORGANIZER;CN=IAM Glasgow North:MAILTO:iamwpadmin@iamglasgow.org
DTSTART;TZID=Etc/GMT+0:20250308T100000
DTEND;TZID=Etc/GMT+0:20250308T130000
X-ALT-DESC;FMTTYPE=TEXT/HTML:Saturday morning winter observed bike training
  session. Green light if you're not going to the bike show. Please check o
 ut the \"Winter Traffic Lights\" before setting off for each session to se
 e that it hasn't been cancelled due to the weather.
CATEGORIES:Winter Ride (GREEN)
URL;VALUE=URI:https://www.iamglasgow.org/mc-events/winter-bike-session-2025
 -sat-green-2/
METHOD:PUBLISH
END:VEVENT
END:VCALENDAR