BEGIN:VCALENDAR
VERSION:2.0
PRODID:spatie/icalendar-generator
DESCRIPTION:Events from Glasgow North Group of Advanced Motorists
X-WR-CALDESC:Events from Glasgow North Group of Advanced Motorists
REFRESH-INTERVAL;VALUE=DURATION:PT1440M
X-PUBLISHED-TTL:PT1440M
BEGIN:VTIMEZONE
TZID:Etc/GMT+0
BEGIN:STANDARD
DTSTART:20240614T193000Z
TZOFFSETFROM:+0000
TZOFFSETTO:+0000
END:STANDARD
END:VTIMEZONE
BEGIN:VTIMEZONE
TZID:UTC
BEGIN:STANDARD
DTSTART:20250727T055119Z
TZOFFSETFROM:+0000
TZOFFSETTO:+0000
END:STANDARD
END:VTIMEZONE
BEGIN:VEVENT
UID:303-28
DTSTAMP:20260423T055119Z
SUMMARY:Winter Zoom Theory Sessions: Limit Point
LOCATION:Zoom Call Zoom details in meeting invite
ORGANIZER;CN=IAM Glasgow North:MAILTO:iamwpadmin@iamglasgow.org
DTSTART;TZID=Etc/GMT+0:20250311T193000
DTEND;TZID=Etc/GMT+0:20250311T210000
X-ALT-DESC;FMTTYPE=TEXT/HTML:Glasgow North IAM is inviting you to a schedul
 ed Zoom meeting on: Limit Point of View. Join Zoom Meeting: https://us02we
 b.zoom.us/j/81231706184?pwd=8kxDjLdAzaMtN8gEDclrqAuchomx1b.1 Meeting ID: 8
 12 3170 6184 Passcode: TTC2024 WARNING: Digital recording of any part of t
 his presentation is prohibited. Failure to comply will result in proceedi
 ngs being taken against you without further warning.
CATEGORIES:Zoom Theory Session
URL;VALUE=URI:https://www.iamglasgow.org/mc-events/winter-zoom-theory-sessi
 ons-limit-point/
METHOD:PUBLISH
END:VEVENT
END:VCALENDAR