BEGIN:VCALENDAR
VERSION:2.0
PRODID:spatie/icalendar-generator
DESCRIPTION:Events from Glasgow North Group of Advanced Motorists
X-WR-CALDESC:Events from Glasgow North Group of Advanced Motorists
REFRESH-INTERVAL;VALUE=DURATION:PT1440M
X-PUBLISHED-TTL:PT1440M
BEGIN:VTIMEZONE
TZID:Etc/GMT+0
BEGIN:STANDARD
DTSTART:20240705T193000Z
TZOFFSETFROM:+0000
TZOFFSETTO:+0000
END:STANDARD
END:VTIMEZONE
BEGIN:VTIMEZONE
TZID:UTC
BEGIN:STANDARD
DTSTART:20250727T190607Z
TZOFFSETFROM:+0000
TZOFFSETTO:+0000
END:STANDARD
END:VTIMEZONE
BEGIN:VEVENT
UID:306-31
DTSTAMP:20260423T190607Z
SUMMARY:Winter Zoom Theory Sessions: Overtaking Part 2
LOCATION:Zoom Call Zoom details in meeting invite
ORGANIZER;CN=IAM Glasgow North:MAILTO:iamwpadmin@iamglasgow.org
DTSTART;TZID=Etc/GMT+0:20250401T193000
DTEND;TZID=Etc/GMT+0:20250401T210000
X-ALT-DESC;FMTTYPE=TEXT/HTML:Glasgow North IAM is inviting you to a schedul
 ed Zoom meeting on: Overtaking: Part 2 of 2. Join Zoom Meeting: https://us
 02web.zoom.us/j/81231706184?pwd=8kxDjLdAzaMtN8gEDclrqAuchomx1b.1 Meeting I
 D: 812 3170 6184 Passcode: TTC2024 WARNING: Digital recording of any part 
 of this presentation is prohibited. Failure to comply will result in proc
 eedings being taken against you without further warning.
CATEGORIES:Zoom Theory Session
URL;VALUE=URI:https://www.iamglasgow.org/mc-events/winter-zoom-theory-sessi
 ons-overtaking-part-2/
METHOD:PUBLISH
END:VEVENT
END:VCALENDAR