BEGIN:VCALENDAR
VERSION:2.0
PRODID:spatie/icalendar-generator
DESCRIPTION:Events from Glasgow North Group of Advanced Motorists
X-WR-CALDESC:Events from Glasgow North Group of Advanced Motorists
REFRESH-INTERVAL;VALUE=DURATION:PT1440M
X-PUBLISHED-TTL:PT1440M
BEGIN:VTIMEZONE
TZID:Etc/GMT+0
BEGIN:STANDARD
DTSTART:20240517T193000Z
TZOFFSETFROM:+0000
TZOFFSETTO:+0000
END:STANDARD
END:VTIMEZONE
BEGIN:VTIMEZONE
TZID:UTC
BEGIN:STANDARD
DTSTART:20250725T222830Z
TZOFFSETFROM:+0000
TZOFFSETTO:+0000
END:STANDARD
END:VTIMEZONE
BEGIN:VEVENT
UID:299-24
DTSTAMP:20260421T222830Z
SUMMARY:Winter Zoom Theory Sessions: Positioning
LOCATION:Zoom Call Zoom details in meeting invite
ORGANIZER;CN=IAM Glasgow North:MAILTO:iamwpadmin@iamglasgow.org
DTSTART;TZID=Etc/GMT+0:20250211T193000
DTEND;TZID=Etc/GMT+0:20250211T210000
X-ALT-DESC;FMTTYPE=TEXT/HTML:Glasgow North IAM is inviting you to a schedul
 ed Zoom meeting on: Positioning for Safety\, Stability and View. Join Zoom
  Meeting: https://us02web.zoom.us/j/81231706184?pwd=8kxDjLdAzaMtN8gEDclrqA
 uchomx1b.1 Meeting ID: 812 3170 6184 Passcode: TTC2024 WARNING: Digital re
 cording of any part of this presentation is prohibited. Failure to comply
  will result in proceedings being taken against you without further warnin
 g.
CATEGORIES:Zoom Theory Session
URL;VALUE=URI:https://www.iamglasgow.org/mc-events/winter-zoom-theory-sessi
 ons-positioning/
METHOD:PUBLISH
END:VEVENT
END:VCALENDAR